BEGIN:VCALENDAR
VERSION:2.0
PRODID:-//eventon.com NONSGML v1.0//EN
CALSCALE:GREGORIAN
METHOD:PUBLISH
BEGIN:VEVENT
UID:69e712d34c5a9
DTSTAMP:20260421T080155
DTSTART:20260503T070000Z
DTEND:20260503T120000Z
TZID:Europe/Tallinn
LOCATION:
SUMMARY:Talgud
DESCRIPTION: Kutsume kõiki Konguta Kooli suuri ja väikseid sõpru talgutele! SEST MTÜ Kentsi Kantsi eestvedamisel toimub sel kevadel taas vahva talgupäev. Sel aastal on plaan kokku saada pühapäeval\,  3. mail\,  et tegutseda nii lasteaia kui ka kooli hoovialal. Kui saad ja soovid talgupäeval osaleda (isegi kui su osalemine pole hetkel 100% kindel)\, [..]\nhttps://www.konguta.edu.ee/events/talgud/
URL:https://www.konguta.edu.ee/events/talgud/
END:VEVENT
END:VCALENDAR