BEGIN:VCALENDAR
VERSION:2.0
PRODID:-//eventon.com NONSGML v1.0//EN
CALSCALE:GREGORIAN
METHOD:PUBLISH
BEGIN:VEVENT
UID:69e5fe94c63b4
DTSTAMP:20260420T122316
DTSTART:20260313T060000Z
DTEND:20260313T100000Z
TZID:Europe/Tallinn
LOCATION:
SUMMARY:Koolipäev 100 aastat tagasi
DESCRIPTION: Projektipäev eritunniplaani alusel. Erimenüü Koolipäev lõppeb 11:30\nhttps://www.konguta.edu.ee/events/koolipaev-100-aastat-tagasi/
URL:https://www.konguta.edu.ee/events/koolipaev-100-aastat-tagasi/
END:VEVENT
END:VCALENDAR