BEGIN:VCALENDAR
VERSION:2.0
PRODID:-//eventon.com NONSGML v1.0//EN
CALSCALE:GREGORIAN
METHOD:PUBLISH
BEGIN:VEVENT
UID:69e5fea742525
DTSTAMP:20260420T122335
DTSTART:20260306T060000Z
DTEND:20260306T120000Z
TZID:Europe/Tallinn
LOCATION:
SUMMARY:Kauni kleidi päev
DESCRIPTION: Ilusate kleitide päev\,  et tähistada rahvusvahelist naistepäeva!\nhttps://www.konguta.edu.ee/events/kauni-kleidi-paev/
URL:https://www.konguta.edu.ee/events/kauni-kleidi-paev/
END:VEVENT
END:VCALENDAR