BEGIN:VCALENDAR
VERSION:2.0
PRODID:-//eventon.com NONSGML v1.0//EN
CALSCALE:GREGORIAN
METHOD:PUBLISH
BEGIN:VEVENT
UID:69e74d8669fdc
DTSTAMP:20260421T121222
DTSTART:20251019T210000Z
DTEND:20251026T215900Z
TZID:Europe/Tallinn
LOCATION:
SUMMARY:Sügisene koolivaheaeg
DESCRIPTION: Imetle loodust! Loe mõnda põnevat raamatut\,  kuula mõnusat muusikat\,  liigu looduses! Naudi puhkust!\nhttps://www.konguta.edu.ee/events/sugisene-koolivaheaeg/
URL:https://www.konguta.edu.ee/events/sugisene-koolivaheaeg/
END:VEVENT
END:VCALENDAR