BEGIN:VCALENDAR
VERSION:2.0
PRODID:-//eventon.com NONSGML v1.0//EN
CALSCALE:GREGORIAN
METHOD:PUBLISH
BEGIN:VEVENT
UID:69e7533e0c003
DTSTAMP:20260421T123646
DTSTART:20251127T160000Z
DTEND:20251127T183000Z
TZID:Europe/Tallinn
LOCATION:
SUMMARY:Playback 2025
DESCRIPTION: &#8220;Muusikaga narkovaba maailma eest!&#8221; staarijäljenduskonkurss stardib taas 27. novembril 2025a. kell 18:00 Konguta Rahvamajas. Seekordne Playback kannab järjekorranumbrit  26! Ole kohal!\nhttps://www.konguta.edu.ee/events/playback-2025/
URL:https://www.konguta.edu.ee/events/playback-2025/
END:VEVENT
END:VCALENDAR