BEGIN:VCALENDAR
VERSION:2.0
PRODID:-//eventon.com NONSGML v1.0//EN
CALSCALE:GREGORIAN
METHOD:PUBLISH
BEGIN:VEVENT
UID:69e74adcda5e9
DTSTAMP:20260421T120100
DTSTART:20250430T094000Z
DTEND:20250430T105000Z
TZID:Europe/Tallinn
LOCATION:
SUMMARY:JukuAkadeemia teaduskonverents
DESCRIPTION: Kolmapäeval\,  30. aprillil kell 12: 40 on taas võimalus nautida meie laste teadus- ja loovtööde ettekandeid kooli aulas. Toimub juba 71. teaduskonverents. Külalised on oodatud!\nhttps://www.konguta.edu.ee/events/jukuakadeemia-teaduskonverents/
URL:https://www.konguta.edu.ee/events/jukuakadeemia-teaduskonverents/
END:VEVENT
END:VCALENDAR